BEGIN:VCALENDAR
VERSION:2.0
PRODID:-//Tukios.com/
BEGIN:VEVENT
UID:18bbe9ce-cd88-4c82-98f5-901bfbc21d90@www.dahlcares.com
DTSTAMP:20260425T195830Z
DTSTART:20260428T160000Z
DTEND:20260428T170000Z
SUMMARY:Funeral Service
DESCRIPTION:
URL:https://www.dahlcares.com/obituaries/charles-schlegel
LOCATION: 300 Highland Blvd.  Bozeman MT 59715
GEO:45.6764442;-111.0182977
END:VEVENT
END:VCALENDAR